BEGIN:VCALENDAR
VERSION:2.0
PRODID:-//EBP NONSGML v1.0//EN
BEGIN:VEVENT
UID:69e7306bb6192
DTSTAMP:20260421T100811
DTSTART:20241116T190000
DTEND:20241116T190000
LOCATION:
SUMMARY:BYC x WWK Volleys Herrsching
DESCRIPTION: Im Rahmen der Partnerschaft des BYC und den WWK Volleys aus Herrsching (1. Bundesliga Volleyball) erh&auml;lt der BYC exklusiv f&uuml;r seine Mitglieder zehn Freikarten pro Heimspiel. Falls die Mitglieder des BYC ein Heimspiel der VVW Volleys Herrsching im BMW Park (M&uuml;nchen) oder in der Nikolaushalle (Herrsching) erleben wollen, k&ouml;nnen die [..]
END:VEVENT
END:VCALENDAR