BEGIN:VCALENDAR
VERSION:2.0
PRODID:-//EBP NONSGML v1.0//EN
BEGIN:VEVENT
UID:69e5de12a07fb
DTSTAMP:20260420T100434
DTSTART:20241128T163000
DTEND:20241128T173000
LOCATION:
SUMMARY:BYC x R1: Sportangebot Optis 
DESCRIPTION: BYC x R1 Sportsstudio&nbsp; Das Sportprogramm f&uuml;r alle Optikinder im BYC w&auml;hrend der Off-Season Anmeldung &uuml;ber den Eventkalender dringend notwendig. Alle Infos zum Studio findet Ihr hier:&nbsp;https://www.r1-sportsclub.de/ Infos zur Anfahrt des Studios in Percha:&nbsp;https://maps.app.goo.gl/eDBUQD8aF2HxsnB2A
END:VEVENT
END:VCALENDAR