BEGIN:VCALENDAR
VERSION:2.0
PRODID:-//EBP NONSGML v1.0//EN
BEGIN:VEVENT
UID:69e749e68e3c5
DTSTAMP:20260421T115654
DTSTART:20260320T100000
DTEND:20260322T150000
LOCATION:
SUMMARY:ABGESAGT! BYC GoSailing: J/70 Training im CVT
DESCRIPTION: Zielgruppe: BYC GoSailing J/70-Teilnehmer Boote:&nbsp;BYC Clubboote k&ouml;nnen gegen Chartergeb&uuml;hr (siehe unten) entrichtet werden. Trainer: J&ouml;rg M&ouml;&szlig;nang (20.03.-22.03.) &amp; Thomas Kohler (27.-29.03.) Ort:&nbsp;Circolo Vela Torbole Kosten: 100 EUR pro Tag/Person&nbsp;(max. zwei J/70) (JJA-Mitglieder kostenlos) Zur Aufnahme in die Gruppe bitte eine kurze Nachricht an Nils Sternbeck: -&gt; nils.sternbeck@byc.de unter Angabe des [..]
END:VEVENT
END:VCALENDAR