BEGIN:VCALENDAR
VERSION:2.0
PRODID:-//EBP NONSGML v1.0//EN
BEGIN:VEVENT
UID:69e67a9e90d40
DTSTAMP:20260420T211230
DTSTART:20260423T180000
DTEND:20260423T180000
LOCATION:
SUMMARY:ITERATEC KI im Segelsport
DESCRIPTION: Vortrag: KI im Segelsport &ndash; Perspektiven f&uuml;r den BYC Am 23.04.2026 um 18:00 Uhr findet im Vorfeld der Mitgliederversammlung ein Vortrag zum Thema K&uuml;nstliche Intelligenz im Segelsport statt. Anhand aktueller Beispiele aus SailGP, America&rsquo;s Cup und modernem Bootsbau wird aufgezeigt, wie datenbasierte Technologien den Spitzensport bereits heute ver&auml;ndern. Darauf aufbauend [..]
END:VEVENT
END:VCALENDAR